BEGIN:VCALENDAR
VERSION:2.0
PRODID:-//wp-events-plugin.com//7.2.3.1//EN
TZID:Europe/Paris
X-WR-TIMEZONE:Europe/Paris
BEGIN:VEVENT
UID:285@saintdenisconfluence.fr
DTSTART;TZID=Europe/Paris:20210209T180000
DTEND;TZID=Europe/Paris:20210209T190000
DTSTAMP:20210127T173450Z
URL:https://www.saintdenisconfluence.fr/evenements/reunion-publique-sur-co
 nfluence-organisee-par-la-mairie/
SUMMARY:Réunion publique sur Confluence organisée par la mairie
DESCRIPTION: Ce sera par visioconférence\, et il y sera question du cadre
  de vie et des projets d'aménagements en cours dans le quartier Confluenc
 e.\n\nAlors mardi 9 février à 18h\, connectons-nous nombreux à l'adress
 e https://plainecommune.zoom.us/j/85966254436.\n\nLa réunion sera animée
  par Antoine Mokrane\, maire adjoint et élu de proximité du secteur Conf
 luence\, ainsi que de John Gnahoré et Bruno Charles-Alfred\, de la direct
 ion de la police municipale et de la prévention.\n\nD'ici là\, n'hésite
 z pas à débattre du quartier sur le forum : https://www.saintdenisconflu
 ence.fr/forum/sujets/topics/topics/\n\nhttps://www.saintdenisconfluence.fr
 /2019/11/24/signez-notre-petition-contre-les-barrieres-de-chantier-qui-dev
 alorisent-le-quartier-confluence/\n
ATTACH;FMTTYPE=image/jpeg:https://www.saintdenisconfluence.fr/wp-content/u
 ploads/2021/01/DQ-reu-pleyel_9fev21-web-pdf.jpg
END:VEVENT
BEGIN:VTIMEZONE
TZID:Europe/Paris
X-LIC-LOCATION:Europe/Paris
BEGIN:STANDARD
DTSTART:20201025T020000
TZOFFSETFROM:+0200
TZOFFSETTO:+0100
TZNAME:CET
END:STANDARD
END:VTIMEZONE
END:VCALENDAR