BEGIN:VCALENDAR
VERSION:2.0
PRODID:-//wp-events-plugin.com//7.2.3.1//EN
TZID:Europe/Paris
X-WR-TIMEZONE:Europe/Paris
BEGIN:VEVENT
UID:47@saintdenisconfluence.fr
DTSTART;TZID=Europe/Paris:20200317T200000
DTEND;TZID=Europe/Paris:20200317T203000
DTSTAMP:20200317T154609Z
URL:https://www.saintdenisconfluence.fr/evenements/coronavirus-soutien-au-
 personnel-soignant/
SUMMARY:Coronavirus : soutien au personnel soignant
DESCRIPTION:Manifestons notre soutien au personnel soignant dans cette pand
 émie de coronavirus ! L'association Saint-Denis Confluence invite tous le
 s habitants du quartier à s'exprimer sur leur balcon / à leur fenêtre 
 à 20h précises.\n\nApplaudissements\, casseroles\, voix\, tout est bon p
 our faire du bruit et rappeler aux médecins\, infirmier.e.s\, aide-soigna
 nt.e.s et ambulancier.e.s que leur dévouement est apprécié à sa juste 
 valeur !\n\nN'hésitez pas à prolonger l'événement en musique. Si vous 
 avez une sono à mettre à disposition\, que vous jouez d'un instrument\, 
 proposez-vous !\n- Au 13 rue de la confluence\, 3e étage\, morceau de vio
 loncelle offert par Florence\n- et aux autres bâtiments ?.. à vos propos
 itions !
ATTACH;FMTTYPE=image/jpeg:https://www.saintdenisconfluence.fr/wp-content/u
 ploads/2020/03/MVVM6A5BQELHRRFLTRSI44PELM.jpg
END:VEVENT
BEGIN:VTIMEZONE
TZID:Europe/Paris
X-LIC-LOCATION:Europe/Paris
BEGIN:STANDARD
DTSTART:20191027T020000
TZOFFSETFROM:+0200
TZOFFSETTO:+0100
TZNAME:CET
END:STANDARD
END:VTIMEZONE
END:VCALENDAR